BEGIN:VCALENDAR
VERSION:2.0
PRODID:-//VAO//Cursos//ES
CALSCALE:GREGORIAN
METHOD:PUBLISH
BEGIN:VEVENT
UID:vao-conv-1004182@www.ventasdealtooctanaje.com
DTSTAMP:20260424T095421Z
SUMMARY:Curso Online de Prospección en Ventas B2B — Prospección en Ventas B2B — Convocatoria Agosto
DTSTART;TZID=America/Mexico_City:20260806T090000
DTEND;TZID=America/Mexico_City:20260807T103000
URL:https://www.ventasdealtooctanaje.com/cursos-online/prospeccion-ventas-b2b-online/#form
DESCRIPTION:Convocatoria: Prospección en Ventas B2B — Convocatoria Agosto\nInscripción: https://www.ventasdealtooctanaje.com/cursos-online/prospeccion-ventas-b2b-online/#form
END:VEVENT
END:VCALENDAR
