BEGIN:VCALENDAR
VERSION:2.0
PRODID:-//VAO//Cursos//ES
CALSCALE:GREGORIAN
METHOD:PUBLISH
BEGIN:VEVENT
UID:vao-conv-1004181@www.ventasdealtooctanaje.com
DTSTAMP:20260420T080040Z
SUMMARY:Curso Online de Prospección en Ventas B2B — Prospección en Ventas B2B — Convocatoria Junio
DTSTART;TZID=America/Mexico_City:20260611T090000
DTEND;TZID=America/Mexico_City:20260612T103000
URL:https://www.ventasdealtooctanaje.com/cursos-online/prospeccion-ventas-b2b-online/#form
DESCRIPTION:Convocatoria: Prospección en Ventas B2B — Convocatoria Junio\nInscripción: https://www.ventasdealtooctanaje.com/cursos-online/prospeccion-ventas-b2b-online/#form
END:VEVENT
END:VCALENDAR
